Workbook

Sheet Income Statement -1
A1: Income Statement Deere & Company Equipment Operations for the fiscal year ended October (in millions of dollars except for shares outstanding and per share amounts)
A2: Net Sales and Revenues | C2: 2013 | D2: 2014 | E2: 2015 | F2: 2016 | G2: 2017 | H2: 2018 | I2: 2019 | J2: 2020 | K2: 2021 | L2: 2022 | M2: 2023 | N2: 2024 | O2: 2025
B3: Net sales | C3: 34997.9 | D3: 32960.6 | E3: 25775.2 | F3: 23387.3 | G3: 25885 | H3: 33351 | I3: 34886 | J3: 31272 | K3: 39737 | L3: 47917 | M3: 55565 | N3: 44759 | O3: 38917
B4: Finance and interest income | C4: 80.8 | D4: 76 | E4: 77 | F4: 61.1 | G4: 72 | H4: 126 | I4: 118 | J4: 112 | K4: 133 | L4: 213 | M4: 636 | N4: 596 | O4: 521
B5: Other income | C5: 549.1 | D5: 622.6 | E5: 602.7 | F5: 653.7 | G5: 1065 | H5: 875 | I5: 881 | J5: 808 | K5: 941 | L5: 1261 | M5: 858 | N5: 1006 | O5: 821
B6: Total | C6: 35627.8 | D6: 33659.7 | E6: 26454.9 | F6: 24102.1 | G6: 27022 | H6: 34352 | I6: 35885 | J6: 32192 | K6: 40811 | L6: =SUM(L3:L5) -> 49391 | M6: =SUM(M3:M5) -> 57059 | N6: =SUM(N3:N5) -> 46361 | O6: =SUM(O3:O5) -> 40259
A7: Costs and Expenses
B8: Cost of Sales(1) | C8: 25504.2 | D8: 24666.8 | E8: 19981 | F8: 18198 | G8: 19868 | H8: 25573 | I8: 26793 | J8: 23679 | K8: 29119 | L8: 35341 | M8: 37739 | N8: 30803 | O8: 28190
B9: Research and development expenses(1) | C9: 1445.4 | D9: 1437.2 | E9: 1410.8 | F9: 1393.7 | G9: 1373 | H9: 1658 | I9: 1783 | J9: 1644 | K9: 1587 | L9: 1912 | M9: 2177 | N9: 2290 | O9: 2311
B10: Selling, administrative and general expenses(1) | C10: 3096.8 | D10: 2744.8 | E10: 2383.2 | F10: 2282.6 | G10: 2555 | H10: 2935 | I10: 3031 | J10: 2878 | K10: 2887 | L10: 3137 | M10: 3611 | N10: 3791 | O10: 3856
B11: Interest expense | C11: 297.1 | D11: 289.4 | E11: 272.8 | F11: 250.5 | G11: 264 | H11: 298 | I11: 256 | J11: 329 | K11: 368 | L11: 390 | M11: 411 | N11: 396 | O11: 372
B12: Interest compensation to Financial Services | C12: 202.7 | D12: 212.1 | E12: 204.8 | F12: 216.6 | G12: 234 | H12: 300 | I12: 336 | J12: 248 | K12: 217 | L12: 299 | M12: 687 | N12: 640 | O12: 414
B13: Other operating expenses(1) | C13: 467.3 | D13: 431.5 | E13: 384.1 | F13: 243.8 | G13: 295 | H13: 315 | I13: 299 | J13: 278 | K13: 181 | L13: 350 | M13: 217 | N13: 133 | O13: -29
B14: Total | C14: 31013.5 | D14: 29781.8 | E14: 24636.7 | F14: 22585.2 | G14: 24589 | H14: 31079 | I14: 32498 | J14: 29056 | K14: 34359 | L14: =SUM(L8:L13) -> 41429 | M14: =SUM(M8:M13) -> 44842 | N14: =SUM(N8:N13) -> 38053 | O14: =SUM(O8:O13) -> 35114
A15: Income before Income Taxes | C15: 4614.3 | D15: 3877.9 | E15: 1818.2 | F15: 1516.9 | G15: 2433 | H15: 3273 | I15: 3387 | J15: 3136 | K15: 6452 | L15: =+L6-L14 -> 7962 | M15: 12217 | N15: =N6-N14 -> 8308 | O15: =O6-O14 -> 5145
B16: Provision for income taxes | C16: 1640.7 | D16: 1329.6 | E16: 509.9 | F16: 459 | G16: 726 | H16: 1869 | I16: 689 | J16: 899 | K16: 1386 | L16: 1718 | M16: 2685 | N16: 1887 | O16: 1020
A17: Income after Income Taxes | C17: 2973.6 | D17: 2548.3 | E17: 1308.3 | F17: 1057.9 | G17: 1707 | H17: 1404 | I17: 2698 | J17: 2237 | K17: 5066 | L17: =+L15-L16 -> 6244 | M17: =+M15-M16 -> 9532 | N17: =+N15-N16 -> 6421 | O17: =+O15-O16 -> 4125
B18: Equity in income (loss) of unconsolidated affiliates | C18: -1 | D18: -9 | E18: -0.3 | F18: -4 | G18: -25 | H18: 25 | I18: 20 | J18: -50 | K18: 18 | L18: 6 | M18: 4 | N18: -29 | O18: -17
A19: Net Income | C19: =C17+C18 -> 2972.6 | D19: =D17+D18 -> 2539.3 | E19: =E17+E18 -> 1308 | F19: =F17+F18 -> 1053.9 | G19: =G17+G18 -> 1682 | H19: =H17+H18 -> 1429 | I19: =I17+I18 -> 2718 | J19: =J17+J18 -> 2187 | ... O19: =O17+O18 -> 4108
B20: Less: Net income (loss) attributable to noncontrolling interests | C20: 1 | D20: 2 | E20: 0.9 | F20: -2.4 | G20: 0 | H20: 3 | I20: 4 | J20: 2 | K20: 2 | L20: -1 | M20: -11 | N20: -12 | O20: -29
A21: Net Income Attributable to Deere & Company | C21: =+C19-C20 -> 2971.6 | D21: =+D19-D20 -> 2537.3 | E21: =+E19-E20 -> 1307.1 | F21: =+F19-F20 -> 1056.3 | G21: =+G19-G20 -> 1682 | H21: =+H19-H20 -> 1426 | I21: =+I19-I20 -> 2714 | J21: =+J19-J20 -> 2185 | ... O21: =+O19-O20 -> 4137
A23: Average number of common shares outstanding - basic (in thousands) | C23: 385310 | D23: 363003 | E23: 333596 | F23: 315207 | G23: 319499 | H23: 322586 | I23: 316499 | J23: 313508 | K23: 311573 | L23: 304465 | M23: 292162 | N23: =276005.964 -> 276005.96 | O23: 270943
A24: Net income per share - basic(2) | C24: 9.18 | D24: 8.71 | E24: 5.81 | F24: 4.83 | G24: 6.76 | H24: 7.34 | I24: 10.28 | J24: 8.77 | K24: 19.14 | L24: 23.42 | M24: 34.8 | N24: 25.73 | O24: 18.55
A25: Net income per share - diluted(2) | C25: 9.09 | D25: 8.63 | E25: 5.77 | F25: 4.81 | G25: 6.68 | H25: 7.24 | I25: 10.15 | J25: 8.69 | K25: 18.99 | L25: 23.28 | M25: 34.63 | N25: 25.62 | O25: 18.5
A27: (1) In 1Q 2018, the company early adopted Financial Accounting Standards Board (FASB) Accounting Standard Update (ASU) No. 2017-07, Improving the Presentation of Net Periodic Pension Cost and Net Periodic Postretirement
A28: Benefit Cost, which amends Accounting Standards Codification (ASC) 715, Compensation - Retirement Benefits. Prior periods were restated for this change.
A29: (2) Attributable to Deere & Company

Sheet Inc Stmt % To Net Sales-2
A1: Income Statement % to Net Sales Deere & Company Equipment Operations for the fiscal year ended October
A2: Net Sales and Revenues | C2: ='Income Statement -1'!C2 -> 2013 | D2: ='Income Statement -1'!D2 -> 2014 | E2: ='Income Statement -1'!E2 -> 2015 | F2: ='Income Statement -1'!F2 -> 2016 | G2: ='Income Statement -1'!G2 -> 2017 | H2: ='Income Statement -1'!H2 -> 2018 | I2: ='Income Statement -1'!I2 -> 2019 | J2: ='Income Statement -1'!J2 -> 2020 | ... L2: ='Income Statement -1'!L2 -> 2022 | M2: 2023 | N2: 2024 | O2: 2025
B3: Net sales | C3: ='Income Statement -1'!C3/'Income Statement -1'!C3 -> 1 | D3: ='Income Statement -1'!D3/'Income Statement -1'!D3 -> 1 | E3: ='Income Statement -1'!E3/'Income Statement -1'!E3 -> 1 | F3: ='Income Statement -1'!F3/'Income Statement -1'!F3 -> 1 | G3: ='Income Statement -1'!G3/'Income Statement -1'!G3 -> 1 | H3: ='Income Statement -1'!H3/'Income Statement -1'!H3 -> 1 | I3: ='Income Statement -1'!I3/'Income Statement -1'!I3 -> 1 | J3: ='Income Statement -1'!J3/'Income Statement -1'!J3 -> 1 | ... O3: ='Income Statement -1'!O3/'Income Statement -1'!O3 -> 1
B4: Finance and interest income | C4: ='Income Statement -1'!C4/'Income Statement -1'!C3*100 -> 0.230871 | D4: ='Income Statement -1'!D4/'Income Statement -1'!D3*100 -> 0.23057833 | E4: ='Income Statement -1'!E4/'Income Statement -1'!E3*100 -> 0.29873677 | F4: ='Income Statement -1'!F4/'Income Statement -1'!F3*100 -> 0.2612529 | G4: ='Income Statement -1'!G4/'Income Statement -1'!G3*100 -> 0.27815337 | H4: ='Income Statement -1'!H4/'Income Statement -1'!H3*100 -> 0.37779977 | I4: ='Income Statement -1'!I4/'Income Statement -1'!I3*100 -> 0.33824457 | J4: ='Income Statement -1'!J4/'Income Statement -1'!J3*100 -> 0.35814786 | ... O4: ='Income Statement -1'!O4/'Income Statement -1'!O3*100 -> 1.3387466
B5: Other income | C5: ='Income Statement -1'!C5/'Income Statement -1'!C3*100 -> 1.5689513 | D5: ='Income Statement -1'!D5/'Income Statement -1'!D3*100 -> 1.8889219 | E5: ='Income Statement -1'!E5/'Income Statement -1'!E3*100 -> 2.3382942 | F5: ='Income Statement -1'!F5/'Income Statement -1'!F3*100 -> 2.7951067 | G5: ='Income Statement -1'!G5/'Income Statement -1'!G3*100 -> 4.1143519 | H5: ='Income Statement -1'!H5/'Income Statement -1'!H3*100 -> 2.6236095 | I5: ='Income Statement -1'!I5/'Income Statement -1'!I3*100 -> 2.5253683 | J5: ='Income Statement -1'!J5/'Income Statement -1'!J3*100 -> 2.583781 | ... O5: ='Income Statement -1'!O5/'Income Statement -1'!O3*100 -> 2.1096179
B6: Total | C6: ='Income Statement -1'!C6/'Income Statement -1'!C3*100 -> 101.79982 | D6: ='Income Statement -1'!D6/'Income Statement -1'!D3*100 -> 102.12102 | E6: ='Income Statement -1'!E6/'Income Statement -1'!E3*100 -> 102.63703 | F6: ='Income Statement -1'!F6/'Income Statement -1'!F3*100 -> 103.05636 | G6: ='Income Statement -1'!G6/'Income Statement -1'!G3*100 -> 104.39251 | H6: ='Income Statement -1'!H6/'Income Statement -1'!H3*100 -> 103.00141 | I6: ='Income Statement -1'!I6/'Income Statement -1'!I3*100 -> 102.86361 | J6: ='Income Statement -1'!J6/'Income Statement -1'!J3*100 -> 102.94193 | ... O6: ='Income Statement -1'!O6/'Income Statement -1'!O3*100 -> 103.44836
A7: Costs and Expenses
B8: Cost of sales | C8: ='Income Statement -1'!C8/'Income Statement -1'!C$3*100 -> 72.873515 | D8: ='Income Statement -1'!D8/'Income Statement -1'!D$3*100 -> 74.83723 | E8: ='Income Statement -1'!E8/'Income Statement -1'!E$3*100 -> 77.520252 | F8: ='Income Statement -1'!F8/'Income Statement -1'!F$3*100 -> 77.811462 | G8: ='Income Statement -1'!G8/'Income Statement -1'!G$3*100 -> 76.754877 | H8: ='Income Statement -1'!H8/'Income Statement -1'!H$3*100 -> 76.67836 | I8: ='Income Statement -1'!I8/'Income Statement -1'!I$3*100 -> 76.801582 | J8: ='Income Statement -1'!J8/'Income Statement -1'!J$3*100 -> 75.719493 | ... O8: ='Income Statement -1'!O8/'Income Statement -1'!O$3*100 -> 72.43621
B9: Research and development expenses | C9: ='Income Statement -1'!C9/'Income Statement -1'!C$3*100 -> 4.1299621 | D9: ='Income Statement -1'!D9/'Income Statement -1'!D$3*100 -> 4.3603575 | E9: ='Income Statement -1'!E9/'Income Statement -1'!E$3*100 -> 5.4734784 | F9: ='Income Statement -1'!F9/'Income Statement -1'!F$3*100 -> 5.9592172 | G9: ='Income Statement -1'!G9/'Income Statement -1'!G$3*100 -> 5.3042302 | H9: ='Income Statement -1'!H9/'Income Statement -1'!H$3*100 -> 4.9713652 | I9: ='Income Statement -1'!I9/'Income Statement -1'!I$3*100 -> 5.1109328 | J9: ='Income Statement -1'!J9/'Income Statement -1'!J$3*100 -> 5.257099 | ... O9: ='Income Statement -1'!O9/'Income Statement -1'!O$3*100 -> 5.9382789
B10: Selling, administrative and general expenses | C10: ='Income Statement -1'!C10/'Income Statement -1'!C$3*100 -> 8.8485309 | D10: ='Income Statement -1'!D10/'Income Statement -1'!D$3*100 -> 8.3275183 | E10: ='Income Statement -1'!E10/'Income Statement -1'!E$3*100 -> 9.246097 | F10: ='Income Statement -1'!F10/'Income Statement -1'!F$3*100 -> 9.7599979 | G10: ='Income Statement -1'!G10/'Income Statement -1'!G$3*100 -> 9.8705814 | H10: ='Income Statement -1'!H10/'Income Statement -1'!H$3*100 -> 8.8003358 | I10: ='Income Statement -1'!I10/'Income Statement -1'!I$3*100 -> 8.688299 | J10: ='Income Statement -1'!J10/'Income Statement -1'!J$3*100 -> 9.203121 | ... O10: ='Income Statement -1'!O10/'Income Statement -1'!O$3*100 -> 9.9082663
B11: Interest expense | C11: ='Income Statement -1'!C11/'Income Statement -1'!C$3*100 -> 0.84890808 | D11: ='Income Statement -1'!D11/'Income Statement -1'!D$3*100 -> 0.878018 | E11: ='Income Statement -1'!E11/'Income Statement -1'!E$3*100 -> 1.0583817 | F11: ='Income Statement -1'!F11/'Income Statement -1'!F$3*100 -> 1.0710941 | G11: ='Income Statement -1'!G11/'Income Statement -1'!G$3*100 -> 1.0198957 | H11: ='Income Statement -1'!H11/'Income Statement -1'!H$3*100 -> 0.89352643 | I11: ='Income Statement -1'!I11/'Income Statement -1'!I$3*100 -> 0.73381872 | J11: ='Income Statement -1'!J11/'Income Statement -1'!J$3*100 -> 1.0520594 | ... O11: ='Income Statement -1'!O11/'Income Statement -1'!O$3*100 -> 0.95588046
B12: Interest compensation to Financial Services | C12: ='Income Statement -1'!C12/'Income Statement -1'!C$3*100 -> 0.57917761 | D12: ='Income Statement -1'!D12/'Income Statement -1'!D$3*100 -> 0.64349557 | E12: ='Income Statement -1'!E12/'Income Statement -1'!E$3*100 -> 0.79456221 | F12: ='Income Statement -1'!F12/'Income Statement -1'!F$3*100 -> 0.92614368 | G12: ='Income Statement -1'!G12/'Income Statement -1'!G$3*100 -> 0.90399845 | H12: ='Income Statement -1'!H12/'Income Statement -1'!H$3*100 -> 0.89952325 | I12: ='Income Statement -1'!I12/'Income Statement -1'!I$3*100 -> 0.96313708 | J12: ='Income Statement -1'!J12/'Income Statement -1'!J$3*100 -> 0.7930417 | ... O12: ='Income Statement -1'!O12/'Income Statement -1'!O$3*100 -> 1.0638025
B13: Other operating expenses | C13: ='Income Statement -1'!C13/'Income Statement -1'!C$3*100 -> 1.335223 | D13: ='Income Statement -1'!D13/'Income Statement -1'!D$3*100 -> 1.3091388 | E13: ='Income Statement -1'!E13/'Income Statement -1'!E$3*100 -> 1.4901921 | F13: ='Income Statement -1'!F13/'Income Statement -1'!F$3*100 -> 1.0424461 | G13: ='Income Statement -1'!G13/'Income Statement -1'!G$3*100 -> 1.1396562 | H13: ='Income Statement -1'!H13/'Income Statement -1'!H$3*100 -> 0.94449942 | I13: ='Income Statement -1'!I13/'Income Statement -1'!I$3*100 -> 0.85707734 | J13: ='Income Statement -1'!J13/'Income Statement -1'!J$3*100 -> 0.88897416 | ... O13: ='Income Statement -1'!O13/'Income Statement -1'!O$3*100 -> -0.074517563
B14: Total | C14: ='Income Statement -1'!C14/'Income Statement -1'!C$3*100 -> 88.615317 | D14: ='Income Statement -1'!D14/'Income Statement -1'!D$3*100 -> 90.355758 | E14: ='Income Statement -1'!E14/'Income Statement -1'!E$3*100 -> 95.582963 | F14: ='Income Statement -1'!F14/'Income Statement -1'!F$3*100 -> 96.570361 | G14: ='Income Statement -1'!G14/'Income Statement -1'!G$3*100 -> 94.993239 | H14: ='Income Statement -1'!H14/'Income Statement -1'!H$3*100 -> 93.187611 | I14: ='Income Statement -1'!I14/'Income Statement -1'!I$3*100 -> 93.154847 | J14: ='Income Statement -1'!J14/'Income Statement -1'!J$3*100 -> 92.913789 | ... O14: ='Income Statement -1'!O14/'Income Statement -1'!O$3*100 -> 90.227921
A15: Income before Income Taxes | C15: ='Income Statement -1'!C15/'Income Statement -1'!C$3*100 -> 13.184505 | D15: ='Income Statement -1'!D15/'Income Statement -1'!D$3*100 -> 11.765259 | E15: ='Income Statement -1'!E15/'Income Statement -1'!E$3*100 -> 7.0540675 | F15: ='Income Statement -1'!F15/'Income Statement -1'!F$3*100 -> 6.4859988 | G15: ='Income Statement -1'!G15/'Income Statement -1'!G$3*100 -> 9.399266 | H15: ='Income Statement -1'!H15/'Income Statement -1'!H$3*100 -> 9.8137987 | I15: ='Income Statement -1'!I15/'Income Statement -1'!I$3*100 -> 9.7087657 | J15: ='Income Statement -1'!J15/'Income Statement -1'!J$3*100 -> 10.02814 | ... O15: ='Income Statement -1'!O15/'Income Statement -1'!O$3*100 -> 13.220444
B16: Provision for income taxes | C16: ='Income Statement -1'!C16/'Income Statement -1'!C$3*100 -> 4.6879956 | D16: ='Income Statement -1'!D16/'Income Statement -1'!D$3*100 -> 4.0339071 | E16: ='Income Statement -1'!E16/'Income Statement -1'!E$3*100 -> 1.9782582 | F16: ='Income Statement -1'!F16/'Income Statement -1'!F$3*100 -> 1.9626036 | G16: ='Income Statement -1'!G16/'Income Statement -1'!G$3*100 -> 2.8047132 | H16: ='Income Statement -1'!H16/'Income Statement -1'!H$3*100 -> 5.6040299 | I16: ='Income Statement -1'!I16/'Income Statement -1'!I$3*100 -> 1.9750043 | J16: ='Income Statement -1'!J16/'Income Statement -1'!J$3*100 -> 2.8747762 | ... O16: ='Income Statement -1'!O16/'Income Statement -1'!O$3*100 -> 2.6209626
A17: Income after Income Taxes | C17: ='Income Statement -1'!C17/'Income Statement -1'!C$3*100 -> 8.4965098 | D17: ='Income Statement -1'!D17/'Income Statement -1'!D$3*100 -> 7.731352 | E17: ='Income Statement -1'!E17/'Income Statement -1'!E$3*100 -> 5.0758093 | F17: ='Income Statement -1'!F17/'Income Statement -1'!F$3*100 -> 4.5233952 | G17: ='Income Statement -1'!G17/'Income Statement -1'!G$3*100 -> 6.5945528 | H17: ='Income Statement -1'!H17/'Income Statement -1'!H$3*100 -> 4.2097688 | I17: ='Income Statement -1'!I17/'Income Statement -1'!I$3*100 -> 7.7337614 | J17: ='Income Statement -1'!J17/'Income Statement -1'!J$3*100 -> 7.153364 | ... O17: ='Income Statement -1'!O17/'Income Statement -1'!O$3*100 -> 10.599481
B18: Equity in income (loss) of unconsolidated affiliates | C18: ='Income Statement -1'!C18/'Income Statement -1'!C$3*100 -> -0.0028573143 | D18: ='Income Statement -1'!D18/'Income Statement -1'!D$3*100 -> -0.027305328 | E18: ='Income Statement -1'!E18/'Income Statement -1'!E$3*100 -> -0.0011639095 | F18: ='Income Statement -1'!F18/'Income Statement -1'!F$3*100 -> -0.0171033 | G18: ='Income Statement -1'!G18/'Income Statement -1'!G$3*100 -> -0.096581031 | H18: ='Income Statement -1'!H18/'Income Statement -1'!H$3*100 -> 0.074960271 | I18: ='Income Statement -1'!I18/'Income Statement -1'!I$3*100 -> 0.057329588 | J18: ='Income Statement -1'!J18/'Income Statement -1'!J$3*100 -> -0.15988744 | ... O18: ='Income Statement -1'!O18/'Income Statement -1'!O$3*100 -> -0.043682709
A19: Net Income | C19: ='Income Statement -1'!C19/'Income Statement -1'!C$3*100 -> 8.4936525 | D19: ='Income Statement -1'!D19/'Income Statement -1'!D$3*100 -> 7.7040466 | E19: ='Income Statement -1'!E19/'Income Statement -1'!E$3*100 -> 5.0746454 | F19: ='Income Statement -1'!F19/'Income Statement -1'!F$3*100 -> 4.5062919 | G19: ='Income Statement -1'!G19/'Income Statement -1'!G$3*100 -> 6.4979718 | H19: ='Income Statement -1'!H19/'Income Statement -1'!H$3*100 -> 4.2847291 | I19: ='Income Statement -1'!I19/'Income Statement -1'!I$3*100 -> 7.791091 | J19: ='Income Statement -1'!J19/'Income Statement -1'!J$3*100 -> 6.9934766 | ... O19: ='Income Statement -1'!O19/'Income Statement -1'!O$3*100 -> 10.555798
B20: Less: Net income (loss) attributable to noncontrolling interests | C20: ='Income Statement -1'!C20/'Income Statement -1'!C$3*100 -> 0.0028573143 | D20: ='Income Statement -1'!D20/'Income Statement -1'!D$3*100 -> 0.0060678507 | E20: ='Income Statement -1'!E20/'Income Statement -1'!E$3*100 -> 0.0034917285 | F20: ='Income Statement -1'!F20/'Income Statement -1'!F$3*100 -> -0.01026198 | G20: ='Income Statement -1'!G20/'Income Statement -1'!G$3*100 -> 0 | H20: ='Income Statement -1'!H20/'Income Statement -1'!H$3*100 -> 0.0089952325 | I20: ='Income Statement -1'!I20/'Income Statement -1'!I$3*100 -> 0.011465918 | J20: ='Income Statement -1'!J20/'Income Statement -1'!J$3*100 -> 0.0063954976 | ... O20: ='Income Statement -1'!O20/'Income Statement -1'!O$3*100 -> -0.074517563
A21: Net Income Attributable to Deere & Company | C21: ='Income Statement -1'!C21/'Income Statement -1'!C$3 -> 0.084907952 | D21: ='Income Statement -1'!D21/'Income Statement -1'!D$3 -> 0.076979788 | E21: ='Income Statement -1'!E21/'Income Statement -1'!E$3 -> 0.050711537 | F21: ='Income Statement -1'!F21/'Income Statement -1'!F$3 -> 0.045165539 | G21: ='Income Statement -1'!G21/'Income Statement -1'!G$3 -> 0.064979718 | H21: ='Income Statement -1'!H21/'Income Statement -1'!H$3 -> 0.042757339 | I21: ='Income Statement -1'!I21/'Income Statement -1'!I$3 -> 0.077796251 | J21: ='Income Statement -1'!J21/'Income Statement -1'!J$3 -> 0.069870811 | ... O21: ='Income Statement -1'!O21/'Income Statement -1'!O$3 -> 0.10630316
A24: Net Sales by Operating Segment (millions of dollars)
A25: Net Sales: | C25: 2013 | D25: 2014 | E25: 2015 | F25: 2016 | G25: 2017 | H25: 2018 | I25: 2019 | J25: 2020 | K25: 2021 | L25: 2022 | M25: 2023 | N25: 2024 | O25: 2024
B26: Agriculture and turf | C26: 29132 | D26: 26380 | E26: 19812 | F26: 18487 | G26: 20167 | H26: 23191 | I26: 23666 | J26: 22325
B27: Production & precision ag(1) | H27: 13086 | I27: 13364 | J27: 12962 | K27: 16509 | L27: 22002 | M27: 26790 | N27: 20834 | O27: 17311
B28: Small ag & turf(1) | H28: 10105 | I28: 10302 | J28: 9363 | K28: 11860 | L28: 13381 | M28: 13980 | N28: 10969 | O28: 10224
B29: Construction & forestry | C29: 5866 | D29: 6581 | E29: 5963 | F29: 4900 | G29: 5718 | H29: 10160 | I29: 11220 | J29: 8947 | K29: 11368 | L29: 12534 | M29: 14795 | N29: 12956 | O29: 11382
B30: Total | C30: 34998 | D30: 32961 | E30: 25775 | F30: 23387 | G30: 25885 | H30: 33351 | I30: 34886 | J30: 31272 | K30: 39737 | L30: =SUM(L26:L29) -> 47917 | M30: =SUM(M26:M29) -> 55565 | N30: =SUM(N26:N29) -> 44759 | O30: =SUM(O26:O29) -> 38917
A31: (1) Beginning in fiscal year 2021, the company implemented a new operating model and reporting structure. With this change, the company’s agriculture and turf operations were divided into two new segments,
A32: production & precision ag and small ag & turf. For informational purposes only, segment financial data for fiscal years 2020, 2019, and 2018 have been provided.

Sheet Quarterly Sales-3
A1: Quarterly Net Sales | H1: Quarterly Net Income Attributable to Deere & Company | O1: Quarterly Net Income Per Share – Diluted
A2: (millions of dollars) | H2: (millions of dollars) | O2: (dollars)
B3: 1Q | C3: 2Q | D3: 3Q | E3: 4Q | F3: Total | I3: 1Q | J3: 2Q | K3: 3Q | L3: 4Q | M3: Total | P3: 1Q | Q3: 2Q | R3: 3Q | S3: 4Q | T3: Total
A4: 2013 | B4: 6792.8 | C4: 10265 | D4: 9315.6 | E4: 8624.4 | F4: 34997.9 | H4: 2013 | I4: 649.73462 | J4: 1084.1956 | K4: 996.5346 | L4: 806.79241 | M4: 3537.2572 | O4: 2013 | P4: 1.65 | Q4: 2.75691 | R4: 2.5570656 | S4: 2.1103474 | T4: 9.094323
A5: 2014 | B5: 6948.5 | C5: 9246.2 | D5: 8723 | E5: 8042.8 | F5: 32960.6 | H5: 2014 | I5: 681.1 | J5: 980.7 | K5: 850.7 | L5: 649.2 | M5: 3161.7 | O5: 2014 | P5: 1.81 | Q5: 2.65 | R5: 2.33 | S5: 1.83 | T5: 8.63
A6: 2015 | B6: 5605.1 | C6: 7398.5 | D6: 6839.5 | E6: 5932 | F6: 25775.2 | H6: 2015 | I6: 386.8 | J6: 690.5 | K6: 511.6 | L6: 351.2 | M6: 1940 | O6: 2015 | P6: 1.12 | Q6: 2.03 | R6: 1.53 | S6: 1.08 | T6: 5.77
A7: 2016 | B7: 4769.2 | C7: 7106.6 | D7: 5861.4 | E7: 5650.1 | F7: 23387.3 | H7: 2016 | I7: 254.4 | J7: 495.4 | K7: 488.8 | L7: 285.3 | M7: 1523.9 | O7: 2016 | P7: 0.8 | Q7: 1.56 | R7: 1.55 | S7: 0.9 | T7: 4.81
A8: 2017 | B8: 4698 | C8: 7260 | D8: 6833 | E8: 7094 | F8: 25885 | H8: 2017(1) | I8: 199 | J8: 808 | K8: 642 | L8: 510 | M8: 2159 | O8: 2017(1) | P8: 0.62 | Q8: 2.5 | R8: 1.97 | S8: 1.57 | T8: 6.68
A9: 2018 | B9: 5974 | C9: 9747 | D9: 9287 | E9: 8343 | F9: 33351 | H9: 2018 | I9: -535 | J9: 1208 | K9: 910 | L9: 785 | M9: 2368 | O9: 2018 | P9: -1.66 | Q9: 3.67 | R9: 2.78 | S9: 2.42 | T9: 7.24
A10: 2019 | B10: 6941 | C10: 10273 | D10: 8969 | E10: 8703 | F10: 34886 | H10: 2019 | I10: 498 | J10: 1135 | K10: 899 | L10: 721 | M10: 3253 | O10: 2019 | P10: 1.54 | Q10: 3.52 | R10: 2.81 | S10: 2.27 | T10: 10.15
A11: 2020 | B11: 6530 | C11: 8224 | D11: 7859 | E11: 8659 | F11: 31272 | H11: 2020 | I11: 517 | J11: 666 | K11: 811 | L11: 757 | M11: 2751 | O11: 2020 | P11: 1.63 | Q11: 2.11 | R11: 2.57 | S11: 2.39 | T11: 8.69
A12: 2021 | B12: 8050.5 | C12: 10998.1 | D12: 10412.9 | E12: 10275.8 | F12: 39737.3 | H12: 2021 | I12: 1223.7 | J12: 1789.7 | K12: 1666.8 | L12: 1282.9 | M12: 5963.1 | O12: 2021 | P12: 3.87 | Q12: 5.68 | R12: 5.32 | S12: 4.12 | T12: 18.99
A13: 2022 | B13: 8531.4 | C13: 12033.8 | D13: 13000 | E13: 14351.4 | F13: =SUM(B13:E13) -> 47916.6 | H13: 2022 | I13: 903.3 | J13: 2097.7 | K13: 1884.2 | L13: 2245.9 | M13: =SUM(I13:L13) -> 7131.1 | O13: 2022 | P13: 2.92 | Q13: 6.81 | R13: 6.16 | S13: 7.44 | T13: 23.28
A14: 2023 | B14: 11402 | C14: 16079 | D14: 14284 | E14: 13801 | F14: 55565 | H14: 2023 | I14: 1959 | J14: 2860 | K14: 2978 | L14: 2369 | M14: 10166 | O14: 2023 | P14: 6.55 | Q14: 9.65 | R14: 10.2 | S14: 8.26 | T14: 34.63
A15: 2024 | B15: 10486 | C15: 13610 | D15: 11387 | E15: 9275 | F15: 44759 | H15: 2024 | I15: 1751 | J15: 2370 | K15: 1734 | L15: 1245 | M15: =SUM(I15:L15) -> 7100 | O15: 2024 | P15: 6.23 | Q15: 8.53 | R15: 6.29 | S15: 4.55 | T15: 25.62
A16: 2025 | B16: 6809 | C16: 11171 | D16: 10357 | E16: 10579 | F16: 38917 | H16: 2025 | I16: 869 | J16: 1804 | K16: 1289 | L16: 1065 | M16: 5027 | O16: 2025 | P16: 3.19 | Q16: 6.64 | R16: 4.75 | S16: 3.93 | T16: 18.5
A18: (1) In 3Q 2017, the company adopted Financial Accounting Standard Board (FASB) Accounting Standards Update (ASU) No. 2016-09, Improvements to Employee Share-Based Payment Accounting;
A19: 1Q 2017 and 2Q 2017 were restated for this change.
A22: Equipment Operations Net Sales and Revenues by Major Markets (millions of dollars) (1)
E23: Net Sales | L23: Net Sales & Revenues
E24: 2013 | F24: 2014 | G24: 2015 | H24: 2016 | I24: 2017 | J24: 2018 | L24: 2019 | M24: 2020 | N24: 2021 | O24: 2022 | P24: 2023 | Q24: 2024 | R24: 2025
A25: United States | E25: 19077 | F25: 17537 | G25: 14559 | H25: 12638 | I25: 13042 | J25: 16603 | L25: 18444 | M25: =6889+5059+4548 -> 16496 | N25: =8223+6505+5697 -> 20425 | O25: =10975+7741+7103 -> 25819 | P25: =34105-3283 -> 30822 | Q25: =30242-4166 -> 26076 | R25: =23974-4450 -> 19524
A26: Canada | E26: 2744 | F26: 2634 | G26: 1939 | H26: 1738 | I26: 1989 | J26: 2244 | L26: 2203 | M26: =640+350+802 -> 1792 | N26: =853+498+1047 -> 2398 | O26: =1387+676+1238 -> 3301 | P26: =4287-641 -> 3646 | Q26: =3900-717 -> 3183 | R26: =3735-761 -> 2974
A27: Western Europe | E27: 4350 | F27: 4434 | G27: 3329 | H27: 3220 | I27: 3330 | J27: 5110 | L27: 5452 | M27: =1827+1937+1479 -> 5243 | N27: =2086+2433+1807 -> 6326 | O27: =2188+2478+1576 -> 6242 | P27: =7321-132 -> 7189 | Q27: =6189-189 -> 6000 | R27: =6550-185 -> 6365
A28: Central Europe & CIS | E28: 1617 | F28: 1444 | G28: 1024 | H28: 1199 | I28: 1729 | J28: 2219 | L28: 2172 | M28: =898+493+646 -> 2037 | N28: =1322+475+828 -> 2625 | O28: =1207+488+545 -> 2240 | P28: =2137-36 -> 2101 | Q28: =1488-36 -> 1452 | R28: =1575-11 -> 1564
A29: Latin America | E29: 4287 | F29: 4073 | G29: 2375 | H29: 2422 | I29: 3206 | J29: 3370 | L29: 3613 | M29: =1902+334+553 -> 2789 | N29: =2916+456+903 -> 4275 | O29: =4991+578+1467 -> 7036 | P29: =8197-453 -> 7744 | Q29: =5538-453 -> 5085 | R29: =5607-197 -> 5410
A30: Asia, Africa, Australia,
A31: New Zealand & Middle East | E31: 2923 | F31: 2839 | G31: 2549 | H31: 2170 | I31: 2589 | J31: 3805 | L31: 3753 | M31: =1119+1322+1153 -> 3594 | N31: =1417+1679+1331 -> 4427 | O31: =1570+1608+1136 -> 4314 | P31: =5204-176 -> 5028 | Q31: =4359-221 -> 4138 | R31: =4243-217 -> 4026
A32: Total | E32: 34998 | F32: 32961 | G32: 25775 | H32: 23387 | I32: 25885 | J32: 33351 | L32: 35637 | M32: =SUM(M25:M31) -> 31951 | N32: =SUM(N25:N31) -> 40476 | O32: =SUM(O25:O31) -> 48952 | P32: =SUM(P25:P31) -> 56530 | Q32: =SUM(Q25:Q31) -> 45934 | R32: =SUM(R25:R31) -> 39863
A34: (1) 2013-2018 is Net Sales only. With the adoption of the new Revenue Recognition Accounting Standard, 2019-2023 include Net Sales & Revenues.

Sheet Exports & Operating Profit-4
A1: Exports from U.S.
A2: (millions of dollars)
A3: 2013 | D3: 9324
A4: 2014 | D4: 9005
A5: 2015 | D5: 7052
A6: 2016 | D6: 6134
A7: 2017 | D7: 7390
A8: 2018 | D8: 8715
A9: 2019 | D9: 7714
A10: 2020 | D10: 6263
A11: 2021 | D11: 8357
A12: 2022 | D12: 8513
A13: 2023 | D13: 8768.9801
A14: 2024 | D14: 6867.9243
A15: 2025 | D15: 6484
A18: Operating Profit (millions of dollars)
A19: Operating Profit (Loss) by Operating Segment: | F19: 2013 | G19: 2014 | H19: 2015 | I19: 2016 | J19: 2017 | K19: 2018 | L19: 2019 | M19: 2020 | N19: 2021 | O19: 2022 | P19: 2023 | Q19: 2024 | R19: 2025
B20: Agriculture and turf(1) | F20: 4860 | G20: 3758 | H20: 1793 | I20: 1719 | J20: 2513 | K20: 2816 | L20: 2506 | M20: 2969
B21: Production & precision ag(2) | K21: 1897 | L21: 1729 | M21: 1969 | N21: 3334 | O21: 4386 | P21: 6996 | Q21: 4514 | R21: 2671
B22: Small ag & turf(2) | K22: 919 | L22: 777 | M22: 1000 | N22: 2045 | O22: 1949 | P22: 2472 | Q22: 1627 | R22: 1207
B23: Construction and forestry(1) | F23: 441 | G23: 685 | H23: 573 | I23: 189 | J23: 346 | K23: 868 | L23: 1215 | M23: 590 | N23: 1489 | O23: 2014 | P23: 2695 | Q23: 2009 | R23: 1028
B24: Financial services(1)(3) | F24: 871 | G24: 919 | H24: 958 | I24: 701 | J24: 715 | K24: 792 | L24: 694 | M24: 746 | N24: 1144 | O24: 1159 | P24: 795 | Q24: 889 | R24: 1114
D25: Total operating profit | F25: 6172 | G25: 5362 | H25: 3324 | I25: 2609 | J25: 3574 | K25: 4476 | L25: 4415 | M25: =SUM(M21:M24) -> 4305 | N25: =SUM(N20:N24) -> 8012 | O25: =SUM(O20:O24) -> 9508 | P25: =SUM(P20:P24) -> 12958 | Q25: =SUM(Q20:Q24) -> 9039 | R25: =SUM(R20:R24) -> 6020
A27: (1) Fiscal years 2013-2017 amounts were restated for the adoption of ASU No. 2017-07, Improving the Presentation of Net Periodic Pension Cost and Net Periodic Postretirement Benefit Cost.
A28: (2) Beginning in fiscal year 2021, the company implemented a new operating model and reporting structure. With this change, the company’s agriculture and turf operations were
A29: divided into two new segments, production & precision ag and small ag & turf. For informational purposes only, segment financial data for fiscal years 2020, 2019 and 2018 have been provided.
A30: (3) Operating profit of the financial services business segment includes the effect of its interest expense and foreign exchange gains or losses.

Sheet Balance Sheet-5
A1: Balance Sheet Deere & Company Equipment Operations in millions of dollars except per share amounts for the fiscal year ended October
A2: Assets | C2: 2013 | D2: 2014 | E2: 2015 | F2: 2016 | G2: 2017 | H2: 2018 | I2: 2019 | J2: 2020 | K2: 2021 | L2: 2022 | M2: 2023 | N2: 2024 | O2: 2025
B3: Cash and cash equivalents | C3: 3023 | D3: 2569 | E3: 2900 | F3: 3141 | G3: 8168 | H3: 3195 | I3: 3175 | J3: 6145 | K3: 7188 | L3: 3767 | M3: 5720 | N3: 5615 | O3: 6340
B4: Marketable securities | C4: 1207 | D4: 700 | E4: 48 | F4: 34 | G4: 20 | H4: 8 | I4: 1 | J4: 7 | K4: 3 | L4: 61 | M4: 104 | N4: 125 | O4: 217
B5: Receivables from Financial Services | C5: 3471 | D5: 3634 | E5: 2395 | F5: 3134 | G5: 996 | H5: 1679 | I5: 1970 | J5: 5259 | K5: 5564 | L5: 6569 | M5: 4516 | N5: 3043 | O5: 4649
B6: Trade accounts and notes receivable - net | C6: 1062 | D6: 706 | E6: 485 | F6: 654 | G6: 876 | H6: 1374 | I6: 1482 | J6: 1013 | K6: 1155 | L6: 1273 | M6: 1320 | N6: 1257 | O6: 1316
B7: Financing receivables - net | C7: 16 | D7: 19 | E7: 1 | F7: 0 | H7: 93 | I7: 65 | J7: 106 | K7: 73 | L7: 47 | M7: 64 | N7: 78 | O7: 88
B8: Financing receivables securitized - net | H8: 76 | I8: 44 | J8: 26 | K8: 10 | N8: 2 | O8: 1
B9: Other receivables | C9: =983+3503-3471 -> 1015 | D9: 878 | E9: 883 | F9: 870 | G9: 1083 | H9: =1010+1700-1679 -> 1031 | I9: =1376+2017-1970 -> 1423 | J9: =1117+5290-5259 -> 1148 | K9: 1629 | L9: 1670 | M9: 1813 | N9: 2193 | O9: 1809
B10: Inventories | C10: 4935 | D10: 4210 | E10: 3817 | F10: 3341 | G10: 3904 | H10: 6149 | I10: 5975 | J10: 4999 | K10: 6781 | L10: 8495 | M10: 8160 | N10: 7093 | O10: 7406
B11: Property and equipment - net | C11: 5409 | D11: 5523 | E11: 5126 | F11: 5119 | G11: 5017 | H11: 5821 | I11: 5929 | J11: 5778 | K11: 5783 | L11: 6021 | M11: 6843 | N11: 7546 | O11: 8047
B12: Investments in unconsolidated affiliates
B13: Goodwill | C13: 845 | D13: 791 | E13: 726 | F13: 816 | G13: 1033 | H13: 3101 | I13: 2917 | J13: 3081 | K13: 3291 | L13: 3687 | M13: 3900 | N13: 3959 | O13: 4188
B14: Other intangible assets - net | C14: 73 | D14: 65 | E14: 64 | F14: 104 | G14: 218 | H14: 1562 | I14: 1380 | J14: 1327 | K14: 1275 | L14: 1218 | M14: 1133 | N14: 999 | O14: 892
B15: Retirement benefits | C15: 518 | D15: 264 | E15: 212 | F15: 94 | G15: 538 | H15: 1241 | I15: 836 | J15: 859 | K15: 3539 | L15: 3666 | M15: 2936 | N15: 2839 | O15: 3181
B16: Deferred income taxes | C16: 2575 | D16: 2982 | E16: 3092 | F16: 3556 | G16: 3099 | H16: 1503 | I16: 1896 | J16: 1763 | K16: 1215 | L16: 940 | M16: 2133 | N16: 2262 | O16: 2507
B17: Other assets | C17: =654+211 -> 865 | D17: 1142 | E17: 1100 | F17: 1056 | G17: 1143 | H17: =1133+192 -> 1325 | I17: =1158+199 -> 1357 | J17: 1613 | K17: 1646 | L17: 1794 | M17: 1948 | N17: 2194 | O17: 2218
B18: Assets held for sale | C18: 505
B19: Total Assets | C19: =SUM(C3:C18) -> 25519 | D19: =SUM(D3:D18) -> 23483 | E19: =SUM(E3:E18) -> 20849 | F19: =SUM(F3:F18) -> 21919 | G19: =SUM(G3:G18) -> 26095 | H19: =SUM(H3:H18) -> 28158 | I19: =SUM(I3:I18) -> 28450 | J19: =SUM(J3:J18) -> 33124 | ... O19: =SUM(O3:O18) -> 42859
A20: Liabilities and Stockholders’ Equity
A21: Liabilities
B22: Short-term borrowings | C22: 1081 | D22: 434 | E22: 464 | F22: 249 | G22: 376 | H22: 1434 | I22: 987 | J22: 292 | K22: 1509 | L22: 1040 | M22: 1230 | N22: 911 | O22: 414
B23: Short-term securitization borrowings | H23: 75 | I23: 44 | J23: 26 | K23: 10 | N23: 2 | O23: 1
B24: Payables to unconsolidated affiliates
B25: Accounts payable and accrued expenses | C25: 8098 | D25: 7619 | E25: 6882 | F25: 6743 | G25: 7840 | H25: =9383+129 -> 9512 | I25: =9232+142 -> 9374 | J25: =9114+104 -> 9218 | K25: 11198 | L25: 12962 | M25: 14862 | N25: 13534 | O25: 12757
B26: Deferred income taxes | C26: 92 | D26: 87 | E26: 87 | F26: 87 | G26: 116 | H26: 497 | I26: 414 | J26: 385 | K26: 438 | L26: 380 | M26: 452 | N26: 434 | O26: 347
B27: Long-term borrowings | C27: 4871 | D27: 4643 | E27: 4461 | F27: 4565 | G27: 5491 | H27: 4714 | I27: 5415 | J27: 10124 | K27: 8915 | L27: 7917 | M27: 7210 | N27: 6603 | O27: 8756
B28: Retirement benefits and other liabilities | C28: 5347 | D28: 6448 | E28: 6723 | F28: 8206 | G28: 7342 | H28: 5660 | I28: 5912 | J28: 5366 | K28: 4239 | L28: 2351 | M28: 2032 | N28: 2250 | O28: 1646
B29: Liabilities held for sale | C29: 120
B30: Total liabilities | C30: =SUM(C22:C29) -> 19609 | D30: =SUM(D22:D29) -> 19231 | E30: =SUM(E22:E29) -> 18617 | F30: =SUM(F22:F29) -> 19850 | G30: =SUM(G22:G29) -> 21165 | H30: =SUM(H22:H29) -> 21892 | I30: =SUM(I22:I29) -> 22146 | J30: =SUM(J22:J29) -> 25411 | ... O30: =SUM(O22:O29) -> 23921
A31: Redeemable noncontrolling interest(1) | F31: 14 | G31: 14 | H31: 14 | I31: 14 | L31: 92 | M31: 97 | N31: 82 | O31: 51
A32: Stockholders’ Equity
B33: Common stock, $1 par value | C33: 3524.2 | D33: 3675.4 | E33: 3825.6 | F33: 3911.8 | G33: 4280.5 | H33: 4474 | I33: 4642 | J33: 4895 | K33: 5054 | L33: 5165
B34: Common stock in treasury | C34: -10210.9 | D34: -12834.2 | E34: -15497.6 | F34: -15677.1 | G34: -15460.8 | H34: -16312 | I34: -17474 | J34: -18065 | K34: -20533 | L34: -24094
B35: Retained earnings | C35: 19645.6 | D35: 22004.4 | E35: 23144.8 | F35: 23911.3 | G35: 25301.3 | H35: 27553 | I35: 29852 | J35: 31646 | K35: 36449 | L35: 42247
B36: Accumulated other comprehensive income (loss) | C36: -2693.1 | D36: -3783 | E36: -4729.4 | F36: -5626 | G36: -4563.7 | H36: -4427 | I36: -5607 | J36: -5539 | K36: -2539 | L36: -3056
B37: Total Deere & Company stockholders’ equity | C37: 10266 | D37: 9063 | E37: 6743 | F37: 6520 | G37: 9557 | H37: 11288 | I37: 11413 | J37: 12937 | K37: 18431 | L37: =SUM(L33:L36) -> 20262 | M37: 21785 | N37: 22836 | O37: 25950
B38: Noncontrolling interests | C38: 2 | D38: 3 | E38: 14 | F38: 11 | G38: 3 | H38: 3 | I38: 4 | J38: 7 | K38: 3 | L38: 3 | M38: 4 | N38: 7 | O38: 6
B39: Financial Services' equity | C39: -4358 | D39: -4814 | E39: -4525 | F39: -4476 | G39: -4644 | H39: -5039 | I39: -5127 | J39: -5231 | K39: -5591 | L39: -5799 | M39: -7082 | N39: -7454 | O39: -7069
B40: Total stockholders' equity | C40: =+C37+C38+C39 -> 5910 | D40: =+D37+D38+D39 -> 4252 | E40: =+E37+E38+E39 -> 2232 | F40: =+F37+F38+F39 -> 2055 | G40: =+G37+G38+G39 -> 4916 | H40: =+H37+H38+H39 -> 6252 | I40: =+I37+I38+I39 -> 6290 | J40: =+J37+J38+J39 -> 7713 | ... O40: =+O37+O38+O39 -> 18887
...

Sheet Cash Flow-6
A1: Cash Flow Deere & Company Equipment Operations in millions of dollars for the fiscal year ended October
C2: 2013 | D2: 2014 | E2: 2015 | F2: 2016 | G2: 2017 | H2: 2018 | I2: 2019 | J2: 2020 | K2: 2021 | L2: 2022 | M2: 2023 | N2: 2024 | O2: 2025
A3: Cash Flows from Operating Activities
A4: Net income | C4: 2973 | D4: 2539 | E4: 1308 | F4: 1054 | G4: 1682 | H4: 1429 | I4: 2718 | J4: 2187 | K4: 5084 | L4: 6250 | M4: 9536 | N4: 6392 | O4: 4108
A5: Adjustments to reconcile net income to net cash provided by operating activities:
B6: Provision for credit losses | C6: 11 | D6: 2.9 | E6: 6 | F6: 8 | G6: 10 | H6: 39 | I6: 14 | J6: 5 | K6: 7 | L6: 3 | M6: 7 | N6: 14 | O6: 18
B7: Provision for depreciation and amortization | C7: 733 | D7: 795.7 | E7: 792 | F7: 803 | G7: 839 | H7: 974 | I7: 1015 | J7: 1016 | K7: 1043 | L7: 1041 | M7: 1123 | N7: 1220 | O7: 1280
B8: Impairment charges | C8: 102 | D8: 95.9 | E8: 15 | F8: 25 | G8: 40 | J8: 162 | K8: 50 | L8: 88 | M8: 18 | N8: 28 | O8: 73
B9: Loss (gain) on sale of businesses and unconsolidated affiliates | F9: -74 | G9: -375 | H9: -25 | I9: 5 | J9: 24
B10: Gain on remeasurement of previously held equity investment | L10: -326
B11: Undistributed earnings of Financial Services | C11: 184 | D11: 150 | E11: 680 | F11: 563 | G11: 365 | H11: 464 | I11: 427 | J11: 386 | K11: 555 | L11: 444 | M11: 215 | N11: 250 | O11: 1368
B12: Provision (credit) for deferred income taxes | C12: -205 | D12: -236.4 | E12: -140 | F12: 13 | G12: -7 | H12: 1504 | I12: -222 | J12: 105 | K12: -369 | L12: 8 | M12: -959 | N12: -97 | O12: -369
B13: Changes in assets and liabilities:
B14: Trade, notes, and financing receivables related to sales | C14: 26 | D14: 231.5 | E14: 113 | F14: -175 | G14: -244 | H14: -239 | I14: -142 | J14: 373 | K14: -105 | L14: -189 | M14: -58 | N14: -13 | O14: -91
B15: Inventories | C15: -70 | D15: 496.2 | E15: -17 | F15: 578 | G15: -504 | H15: -917 | I15: -102 | J15: 1011 | K15: -1835 | L15: -1924 | M15: 474 | N15: 1011 | O15: -138
B16: Accounts payable and accrued expenses | C16: 471 | D16: -277 | E16: -254 | F16: -170 | G16: 946 | H16: 793 | I16: 13 | J16: -331 | K16: 1589 | L16: 1444 | M16: 1352 | N16: -1429 | O16: -617
B17: Accrued income taxes payable/receivable(2) | C17: 135 | D17: 361.3 | E17: -115 | F17: 18 | G17: -123 | H17: 103 | I17: -355 | J17: -14 | K17: 13 | L17: 166 | M17: 8 | N17: -218 | O17: -112
B18: Retirement benefits | C18: 242 | D18: 323 | E18: 414 | F18: 232 | G18: -39 | H18: -985 | I18: -235 | J18: -544 | K18: 30 | L18: -1016 | M18: -164 | N18: -215 | O18: -814
B19: Other (2) | C19: 116 | D19: =70+162-150 -> 82 | E19: 271 | F19: 37 | G19: =-143+352-365 -> -156 | H19: =166+439-464 -> 141 | I19: =54+437-427 -> 64 | J19: 380 | K19: -162 | L19: 250 | M19: 367 | N19: -38 | O19: 394
B20: Net cash provided by operating activities | C20: =SUM(C4:C19) -> 4718 | D20: =SUM(D4:D19) -> 4564.1 | E20: =SUM(E4:E19) -> 3073 | F20: =SUM(F4:F19) -> 2912 | G20: =SUM(G4:G19) -> 2434 | H20: =SUM(H4:H19) -> 3281 | I20: =SUM(I4:I19) -> 3200 | J20: =SUM(J4:J19) -> 4760 | ... O20: =SUM(O4:O19) -> 5100
A21: Cash Flows from Investing Activities
B22: Acquisitions of businesses, net of cash acquired | C22: -84 | F22: -199 | G22: -284 | H22: -5245 | J22: -66 | K22: -244 | L22: -498 | M22: -82 | N22: 0 | O22: -101
B23: Purchases of property and equipment | C23: -1155 | D23: -1045 | E23: -688 | F23: -642 | G23: -592 | H23: -893 | I23: -1118 | J23: -816 | K23: -845 | L23: -1131 | M23: -1494 | N23: -1636 | O23: -1358
B24: Collateral on derivatives - net | J24: -6 | K24: -7 | L24: 5 | M24: -1 | N24: 0 | O24: -1
B25: Proceeds from maturities and sales of marketable securities | C25: 800 | D25: 1000 | E25: 700 | F25: 82 | G25: 298 | H25: 11 | I25: 12
B26: Proceeds from sales of businesses and unconsolidated affiliates, net of cash sold | C26: 22 | D26: 346 | F26: 81 | G26: 114 | H26: 156 | I26: 93 | L26: 0 | M26: 59 | N26: 99 | O26: 46
B27: Purchases of marketable securities | C27: -911 | D27: -504 | E27: -60 | F27: -59 | I27: -3 | L27: -76 | M27: -173 | N27: -209 | O27: -125
B28: Collections of receivables from unconsolidated affiliates | O28: 190
B29: Decrease (increase) in investment in Financial services | C29: -122 | D29: -67 | E29: -27 | F29: -28 | G29: -20 | I29: -8 | L29: 7 | M29: -870 | N29: 4 | O29: -10
B30: Other | C30: -120 | D30: -99 | E30: 7 | F30: -55 | G30: -33 | H30: 17 | I30: 35 | J30: -103 | K30: 62 | L30: -137 | M30: -176 | N30: -125 | O30: -90
B31: Net cash used for investing activities | C31: =SUM(C22:C30) -> -1570 | D31: =SUM(D22:D30) -> -369 | E31: =SUM(E22:E30) -> -68 | F31: =SUM(F22:F30) -> -820 | G31: =SUM(G22:G30) -> -517 | H31: =SUM(H22:H30) -> -5954 | I31: =SUM(I22:I30) -> -989 | J31: =SUM(J22:J30) -> -991 | ... O31: =SUM(O22:O30) -> -1449
A32: Cash Flows from Financing Activities
B33: Increase (decrease) in total short-term borrowings | C33: 36 | D33: -66 | E33: 212 | F33: -207 | G33: 64 | H33: 16 | I33: -149 | J33: -177 | K33: 65 | L33: 136 | M33: -113 | N33: 28 | O33: 144
B34: Change in intercompany receivables/payables | C34: -2007 | D34: -368 | E34: 929 | F34: -756 | G34: 2142 | H34: -748 | I34: -305 | J34: -3207 | K34: -354 | L34: -1633 | M34: 2090 | N34: 1459 | O34: -1695
B35: Proceeds from long-term borrowings | C35: 283 | D35: 61 | E35: 6 | F35: 173 | G35: 1107 | H35: 149 | I35: 1348 | J35: 4586 | K35: 11 | L35: 138 | M35: 342 | N35: 159 | O35: 2369
B36: Payments of long-term borrowings | C36: -191 | D36: -819 | E36: -214 | F36: -73 | G36: -66 | H36: -163 | I36: -972 | J36: -607 | K36: -94 | L36: -1356 | M36: -901 | N36: -1123 | O36: -923
B37: Proceeds from issuance of common stock | C37: 175 | D37: 150 | E37: 172 | F37: 36 | G37: 529 | H37: 217 | I37: 178 | J37: 331 | K37: 148
B38: Repurchases of common stock | C38: -1531 | D38: -2731 | E38: -2771 | F38: -205 | G38: -6 | H38: -958 | I38: -1253 | J38: -750 | K38: -2538 | L38: -3597 | M38: -7216 | N38: -4007 | O38: -1138
B39: Dividends paid | C39: -753 | D39: -786 | E39: -816 | F39: -761 | G39: -764 | H39: -806 | I39: -943 | J39: -956 | K39: -1040 | L39: -1313 | M39: -1427 | N39: -1605 | O39: -1720
B40: Other | C40: -40 | D40: -28 | E40: -45 | F40: -37 | G40: -55 | H40: -60 | I40: -79 | J40: -105 | K40: -61 | L40: 6 | M40: -7 | N40: -46 | O40: -53
...

Sheet Depr & Capital & Empl-7
A1: Depreciation(1) and Amortization Expense(2) (millions of dollars)
A2: Operating Segments: | C2: 2013 | D2: 2014 | E2: 2015 | F2: 2016 | G2: 2017 | H2: 2018 | I2: 2019 | J2: 2020 | K2: 2021 | L2: 2022 | M2: 2023 | N2: 2024 | O2: 2025
B3: Agriculture & turf | C3: 627 | D3: 681 | E3: 659 | F3: 667 | G3: 695 | H3: 723 | I3: 723 | J3: 727
B4: Production & precision ag(3) | I4: 475 | J4: 480 | K4: 495 | L4: 523 | M4: 581 | N4: 643 | O4: 654
B5: Small ag & turf(3) | I5: 248 | J5: 247 | K5: 245 | L5: 236 | M5: 241 | N5: 246 | O5: 261
B6: Construction and forestry | C6: 106 | D6: 115 | E6: 133 | F6: 136 | G6: 145 | H6: 251 | I6: 292 | J6: 289 | K6: 303 | L6: 282 | M6: 301 | N6: 331 | O6: 365
B7: Financial services | C7: 407 | D7: 511 | E7: 590 | F7: 757 | G7: 876 | H7: 953 | I7: 1004 | J7: =1227-125 -> 1102 | K7: =1140-133 -> 1007 | L7: =1050-196 -> 854 | M7: =1016-135 -> 881 | N7: =1040-142 -> 898 | O7: =1082-133 -> 949
B8: Total | C8: =SUM(C3:C7) -> 1140 | D8: =SUM(D3:D7) -> 1307 | E8: =SUM(E3:E7) -> 1382 | F8: =SUM(F3:F7) -> 1560 | G8: =SUM(G3:G7) -> 1716 | H8: =SUM(H3:H7) -> 1927 | I8: =SUM(I3,I6,I7) -> 2019 | J8: =SUM(J3,J6,J7) -> 2118 | K8: =SUM(K3:K7) -> 2050 | L8: =SUM(L3:L7) -> 1895 | M8: =SUM(M3:M7) -> 2004 | N8: =SUM(N3:N7) -> 2118 | O8: =SUM(O3:O7) -> 2229
A10: (1) Includes depreciation for equipment on operating leases.
A11: (2) SBU allocation reflects the adoption of ASC 280, Segment Reporting (FASB statement No. 131).
A12: (3) Beginning in fiscal year 2021, the company implemented a new operating model and reporting structure. With this change, the company’s agriculture and turf operations were
A13: divided into two new segments, production & precision ag and small ag & turf. For informational purposes only, segment financial data for fiscal years 2020 and 2019 have been
A14: provided.
A17: Capital Additions (millions of dollars)
A18: Operating Segments: | C18: 2013 | D18: 2014 | E18: 2015 | F18: 2016 | G18: 2017 | H18: 2018 | I18: 2019 | J18: 2020 | K18: 2021 | L18: 2022 | M18: 2023 | N18: 2024 | O18: 2025
B19: Agriculture & turf | C19: 981 | D19: 868 | E19: 522 | F19: 556 | G19: 485 | H19: 675 | I19: 859 | J19: 654
B20: Production & precision ag(1) | I20: 595 | J20: 431 | K20: 458 | L20: 649 | M20: 896 | N20: 1025 | O20: 716
B21: Small ag & turf(1) | I21: 264 | J21: 223 | K21: 253 | L21: 329 | M21: 386 | N21: 327 | O21: 301
B22: Construction and forestry | C22: 174 | D22: 145 | E22: 138 | F22: 115 | G22: 114 | H22: 308 | I22: 245 | J22: 157 | K22: 183 | L22: 217 | M22: 311 | N22: 352 | O22: 345
B23: Financial services | C23: 3 | D23: 3 | E23: 6 | F23: 3 | G23: 3 | H23: 2 | I23: 3 | J23: 4 | K23: 3 | L23: 2 | M23: 4 | N23: 3 | O23: 2
B24: Total | C24: =SUM(C19:C23) -> 1158 | D24: =SUM(D19:D23) -> 1016 | E24: =SUM(E19:E23) -> 666 | F24: =SUM(F19:F23) -> 674 | G24: =SUM(G19:G23) -> 602 | H24: =SUM(H19:H23) -> 985 | I24: =SUM(I19,I22,I23) -> 1107 | J24: =SUM(J19,J22,J23) -> 815 | K24: =SUM(K19:K23) -> 897 | L24: =SUM(L19:L23) -> 1197 | M24: =SUM(M19:M23) -> 1597 | N24: =SUM(N19:N23) -> 1707 | O24: =SUM(O19:O23) -> 1364
A26: (1) Beginning in fiscal year 2021, the company implemented a new operating model and reporting structure. With this change, the company’s agriculture and turf operations were
A27: divided into two new segments, production & precision ag and small ag & turf. For informational purposes only, segment financial data for fiscal years 2020 and 2019 have been
A28: provided.
A30: Number of Employees
C31: 2013 | D31: 2014 | E31: 2015 | F31: 2016 | G31: 2017 | H31: 2018 | I31: 2019 | J31: 2020 | K31: 2021 | L31: 2022 | M31: 2023 | N31: 2024 | O31: 2025
A32: United States and Canada: | C32: 33900 | D32: 29000 | E32: 28500 | F32: 27900 | G32: 29000 | H32: 30800 | I32: 30000 | J32: 27500 | K32: 29500 | L32: 32000 | M32: =32600+1200 -> 33800 | N32: 30100 | O32: 27600
A33: Outside United States and Canada: | C33: 33100 | D33: 30600 | E33: 28700 | F33: 28900 | G33: 31500 | H33: 43600 | I33: 43500 | J33: 42100 | K33: 46100 | L33: 50200 | M33: =47900+1300 -> 49200 | N33: =N34-N32 -> 45700 | O33: 45500
B34: Total Worldwide | C34: =C32+C33 -> 67000 | D34: =D32+D33 -> 59600 | E34: =E32+E33 -> 57200 | F34: =F32+F33 -> 56800 | G34: =G32+G33 -> 60500 | H34: =H32+H33 -> 74400 | I34: =I32+I33 -> 73500 | J34: =J32+J33 -> 69600 | ... M34: =M32+M33 -> 83000 | N34: 75800 | O34: 73100
